BEGIN:VCALENDAR
METHOD:PUBLISH
PRODID:-//LogicWorks GmbH//NONSGML Contentory//EN
VERSION:2.0
CALSCALE:GREGORIAN
X-MS-OLK-FORCEINSPECTOROPEN:TRUE
BEGIN:VEVENT
DTSTAMP:20260423T220720Z
SUMMARY:Data-Mining-Wettbewerb „COFE-Datathon“
DESCRIPTION:Im Rahmen der „Konferenz über die Zukunft Europas“ (Conference on th
 e Future of Europe - COFE) wird von der Europäischen Kommission der Dat
 a-Mining-Wettbewerb „COFE-Datathon“ veranstaltet.
LOCATION:online
CREATED:20220222T112856
LAST-MODIFIED:20220222T143513
DTSTART;VALUE=DATE:20220301T000000
DTEND;VALUE=DATE:20220330T235959
UID:sn_415_date_0@logic-works.net
END:VEVENT
END:VCALENDAR