BEGIN:VCALENDAR
METHOD:PUBLISH
PRODID:-//LogicWorks GmbH//NONSGML Contentory//EN
VERSION:2.0
CALSCALE:GREGORIAN
X-MS-OLK-FORCEINSPECTOROPEN:TRUE
BEGIN:VEVENT
DTSTAMP:20260423T170138Z
SUMMARY:Informationsveranstaltung zu den Förderbekanntmachungen des Gemeinsamen U
 nternehmens KDT
DESCRIPTION:Am 15. März 2023 von 10:00 Uhr bis 11:00 Uhr informieren das BMBF und der
  zuständige Projektträger VDI/VDE Innovation + Technik GmbH in einem Onl
 ine-Webinar über die Förderrichtlinien zum „Gemeinsamen Unternehmen“
  Key Digital Technologies (KDT).
LOCATION:online
CREATED:20230303T114712
LAST-MODIFIED:20230303T120735
DTSTART;VALUE=DATE:20230315T100000
DTEND;VALUE=DATE:20230315T110000
UID:sn_729_date_0@logic-works.net
END:VEVENT
END:VCALENDAR