BEGIN:VCALENDAR
METHOD:PUBLISH
PRODID:-//LogicWorks GmbH//NONSGML Contentory//EN
VERSION:2.0
CALSCALE:GREGORIAN
X-MS-OLK-FORCEINSPECTOROPEN:TRUE
BEGIN:VEVENT
DTSTAMP:20260423T135711Z
SUMMARY:Informationsveranstaltung zum Horizon Results Booster – "steering resear
 ch towards a strong societal impact"
DESCRIPTION:Die Veranstaltung wird Informationen über die Dienstleistungen und Erfahr
 ungsberichte von Personen umfassen\, die bereits von "Horizon Results Boos
 ter" profitiert haben.
LOCATION:online
CREATED:20231023T122949
LAST-MODIFIED:20231023T123450
DTSTART;VALUE=DATE:20231114T100000
DTEND;VALUE=DATE:20231114T235959
UID:sn_862_date_0@logic-works.net
END:VEVENT
END:VCALENDAR