BEGIN:VCALENDAR
METHOD:PUBLISH
PRODID:-//LogicWorks GmbH//NONSGML Contentory//EN
VERSION:2.0
CALSCALE:GREGORIAN
X-MS-OLK-FORCEINSPECTOROPEN:TRUE
BEGIN:VEVENT
DTSTAMP:20260420T004116Z
SUMMARY:Informationsveranstaltung des „NCC-DE“ zu den Besonderheiten und Chanc
 en der Ausschreibungen in 2024 im Bereich Cybersicherheit in den Förderpr
 ogrammen „Horizont Europa“ und „Digitales Europa“
DESCRIPTION:Im Rahmen des von der EU geförderten Projekts „NCC-DE“ führen wir\, 
 der DLR Projektträger (NKS DIT)\, als Partner im Nationalen Koordinierung
 szentrum für Cybersicherheit (NKCS)\, am 28.06.2024 eine Informationsvera
 nstaltung zu den Besonderheiten und Chancen von Cybersicherheitsausschreib
 ungen in 2024 in „Horizont Europa“ und „Digitales Europa“ durch.
LOCATION:online
CREATED:20240430T104744
LAST-MODIFIED:20240502T144926
DTSTART;VALUE=DATE:20240628T094500
DTEND;VALUE=DATE:20240628T124500
UID:sn_1040_date_0@logic-works.net
END:VEVENT
END:VCALENDAR