BEGIN:VCALENDAR
METHOD:PUBLISH
PRODID:-//LogicWorks GmbH//NONSGML Contentory//EN
VERSION:2.0
CALSCALE:GREGORIAN
X-MS-OLK-FORCEINSPECTOROPEN:TRUE
BEGIN:VEVENT
DTSTAMP:20260423T121335Z
SUMMARY:MatFo2025 - Materialinnovationen fÃ¼r die Transformation von Wirtschaft un
 d Gesellschaft
DESCRIPTION:Am 2. April 2025 lÃ¤dt das Bundesministerium fÃ¼r Bildung und Forschung (B
 MBF) zur Materialforschungskonferenz â€žMatFo2025: Materialinnovationen fÃ
 ¼r die Transformation von Wirtschaft und Gesellschaftâ€œ auf den Campus Ri
 edberg der Goethe-UniversitÃ¤t in Frankfurt am Main ein.
LOCATION:Goethe-UniversitÃ¤t Frankfurt am Main (Campus Riedberg)
CREATED:20241216T111333
LAST-MODIFIED:20241216T145622
DTSTART;VALUE=DATE:20250402T000000
DTEND;VALUE=DATE:20250402T235959
UID:sn_1351_date_0@logic-works.net
END:VEVENT
END:VCALENDAR