BEGIN:VCALENDAR
METHOD:PUBLISH
PRODID:-//LogicWorks GmbH//NONSGML Contentory//EN
VERSION:2.0
CALSCALE:GREGORIAN
X-MS-OLK-FORCEINSPECTOROPEN:TRUE
BEGIN:VEVENT
DTSTAMP:20260422T184514Z
SUMMARY:NKS übergreifende Circular Economy Veranstaltung – Neues zu Fördermög
 lichkeiten und Strategien
DESCRIPTION:Im Rahmen einer Online-Veranstaltung am 21.11.2023 von 09:00 – 12:00 Uhr
  beleuchten die drei Nationalen Kontaktstellen DIT\, KEM und B&U kurz und 
 knapp neue Fördermöglichkeiten und Strategien mit Bezug zum Thema Circul
 ar Economy. Sie erhalten hierbei die Gelegenheit\, neuste Einblicke in die
  Förderlandschaft zu bekommen und gleichzeitig die Thematik auf nationale
 r und europäischer Ebene aktiv mitzugestalten.
LOCATION:Online
CREATED:20230927T141936
LAST-MODIFIED:20230927T150843
DTSTART;VALUE=DATE:20231121T090000
DTEND;VALUE=DATE:20231121T120000
UID:sn_841_date_0@logic-works.net
END:VEVENT
END:VCALENDAR