BEGIN:VCALENDAR
METHOD:PUBLISH
PRODID:-//LogicWorks GmbH//NONSGML Contentory//EN
VERSION:2.0
CALSCALE:GREGORIAN
X-MS-OLK-FORCEINSPECTOROPEN:TRUE
BEGIN:VEVENT
DTSTAMP:20260423T122320Z
SUMMARY:Workshop „Sustainable and Greener Manufacturing of ECS”
DESCRIPTION:Das Chips Joint Undertaking (JU) lädt am 19.10.23 zu einem 3-stündigen W
 orkshop ein\, der sich mit der nachhaltigeren Produktion von Elektronikkom
 ponenten befasst.
LOCATION:Online
CREATED:20231009T163249
LAST-MODIFIED:20231011T083754
DTSTART;VALUE=DATE:20231019T090000
DTEND;VALUE=DATE:20231019T120000
UID:sn_846_date_0@logic-works.net
END:VEVENT
END:VCALENDAR