BEGIN:VCALENDAR
METHOD:PUBLISH
PRODID:-//LogicWorks GmbH//NONSGML Contentory//EN
VERSION:2.0
CALSCALE:GREGORIAN
X-MS-OLK-FORCEINSPECTOROPEN:TRUE
BEGIN:VEVENT
DTSTAMP:20260423T120952Z
SUMMARY:Workshop zu Klimaaspekten in Cluster 3 und 4
DESCRIPTION:Die NKS DIT veranstaltet gemeinsam mit der NKS Sicherheitsforschung einen 
 Workshop über die Klimaaspekte in Cluster 3 und 4 in Horizont Europa.
LOCATION:Online
CREATED:20210510T114312
LAST-MODIFIED:20210510T114312
DTSTART;VALUE=DATE:20210521T103000
DTEND;VALUE=DATE:20210521T120000
UID:sn_226_date_0@logic-works.net
END:VEVENT
END:VCALENDAR