BEGIN:VCALENDAR
METHOD:PUBLISH
PRODID:-//LogicWorks GmbH//NONSGML Contentory//EN
VERSION:2.0
CALSCALE:GREGORIAN
X-MS-OLK-FORCEINSPECTOROPEN:TRUE
BEGIN:VEVENT
DTSTAMP:20260423T121535Z
SUMMARY:Workshop zur Antragstellung in Horizont Europa und Digitales Europa
DESCRIPTION:In diesem Workshop erhalten Sie einen umfassenden Einblick in die aktuelle
 n Cybersicherheits-Ausschreibungen aus den beiden europäischen Förderpro
 grammen Horizont Europa und Digitales Europa.
LOCATION:DLR Projektträger
CREATED:20250602T150542
LAST-MODIFIED:20250604T114705
DTSTART;VALUE=DATE:20250716T100000
DTEND;VALUE=DATE:20250716T160000
UID:sn_1608_date_0@logic-works.net
END:VEVENT
END:VCALENDAR