BEGIN:VCALENDAR
METHOD:PUBLISH
PRODID:-//LogicWorks GmbH//NONSGML Contentory//EN
VERSION:2.0
CALSCALE:GREGORIAN
X-MS-OLK-FORCEINSPECTOROPEN:TRUE
BEGIN:VEVENT
DTSTAMP:20260422T182449Z
SUMMARY:Workshop "Antragstellung im Digital Europe Programme"
DESCRIPTION:In diesem Workshop erhalten Sie einen umfassenden Einblick in die aktuelle
 n Ausschreibungen des Digital Europe Programme. Lernen Sie Hands-On in kle
 inen Gruppen\, wie die Erstellung eines Antrags abläuft und vernetzen Sie
  sich mit Gleichgesinnten.
LOCATION:DLR Projektträger
CREATED:20241031T165957
LAST-MODIFIED:20241104T074903
DTSTART;VALUE=DATE:20241217T100000
DTEND;VALUE=DATE:20241217T160000
UID:sn_1294_date_0@logic-works.net
END:VEVENT
END:VCALENDAR