BEGIN:VCALENDAR
METHOD:PUBLISH
PRODID:-//LogicWorks GmbH//NONSGML Contentory//EN
VERSION:2.0
CALSCALE:GREGORIAN
X-MS-OLK-FORCEINSPECTOROPEN:TRUE
BEGIN:VEVENT
DTSTAMP:20260423T121924Z
SUMMARY:KoWi-Workshop: Der European Innovation Council
DESCRIPTION:Der Workshop gibt einen Ãœberblick Ã¼ber die EIC-FÃ¶rdermaÃŸnahmen und der
 en TeilnahmemÃ¶glichkeiten fÃ¼r Hochschulen vor dem Hintergrund des EuropÃ
 ¤ischen InnovationsÃ¶kosystems.
LOCATION:Online
CREATED:20210127T083208
LAST-MODIFIED:20210201T155858
DTSTART;VALUE=DATE:20210225T100000
DTEND;VALUE=DATE:20210225T113000
UID:sn_152_date_0@logic-works.net
END:VEVENT
END:VCALENDAR