BEGIN:VCALENDAR
METHOD:PUBLISH
PRODID:-//LogicWorks GmbH//NONSGML Contentory//EN
VERSION:2.0
CALSCALE:GREGORIAN
X-MS-OLK-FORCEINSPECTOROPEN:TRUE
BEGIN:VEVENT
DTSTAMP:20260420T145649Z
SUMMARY:What’s Next in Horizon Europe Cluster 4\, Call 2026–27
DESCRIPTION:In Vorbereitung auf das nächste Arbeitsprogramm richtet die FFG und das B
 MIMI am 28.11.2025 eine Informations- und Vernetzungsveranstaltung in Wien
  aus\, die sich speziell mit den Cluster 4 Themen in den Bereichen Digital
 es\, Industrie und Raumfahrt auseinandersetzt.
LOCATION:Bundesministerium für Innovation\, Mobilität und Infrastruktur\, Festsaa
 l
CREATED:20251029T163408
LAST-MODIFIED:20251030T073710
DTSTART;VALUE=DATE:20251128T093000
DTEND;VALUE=DATE:20251128T170000
UID:sn_1903_date_0@logic-works.net
END:VEVENT
END:VCALENDAR