BEGIN:VCALENDAR
METHOD:PUBLISH
PRODID:-//LogicWorks GmbH//NONSGML Contentory//EN
VERSION:2.0
CALSCALE:GREGORIAN
X-MS-OLK-FORCEINSPECTOROPEN:TRUE
BEGIN:VEVENT
DTSTAMP:20260422T090557Z
SUMMARY:Info-Veranstaltung „What next? – Einführung in die Fördermöglichkei
 ten in Cluster 5“
DESCRIPTION:Das zweite Quartal 2025 wird spannend\, denn die Finalisierung und Veröff
 entlichung der nächsten Arbeitsprogramme des EU-Förderprogramms Horizont
  Europa wird erwartet. Mit der NKS KEM-Veranstaltungsreihe werden Sie fit 
 für Cluster 5 gemacht.
LOCATION:Online
CREATED:20241212T150402
LAST-MODIFIED:20241212T153309
DTSTART;VALUE=DATE:20250121T100000
DTEND;VALUE=DATE:20250121T120000
UID:sn_1347_date_0@logic-works.net
END:VEVENT
END:VCALENDAR