BEGIN:VCALENDAR
METHOD:PUBLISH
PRODID:-//LogicWorks GmbH//NONSGML Contentory//EN
VERSION:2.0
CALSCALE:GREGORIAN
X-MS-OLK-FORCEINSPECTOROPEN:TRUE
BEGIN:VEVENT
DTSTAMP:20260423T140509Z
SUMMARY:Wege zur Innovation – Unterstützung zukünftiger Antragsteller in der e
 uropäischen Sicherheitsforschung
DESCRIPTION:Virtuelle Informationsveranstaltung der NKS Sicherheitsforschung zur BMBF 
 Förderrichtlinie und zu den Themen im Cluster „Zivile Sicherheit für d
 ie Gesellschaft“ in Horizont Europa
LOCATION:online
CREATED:20210218T163108
LAST-MODIFIED:20210219T081428
DTSTART;VALUE=DATE:20210303T100000
DTEND;VALUE=DATE:20210303T113000
UID:sn_171_date_0@logic-works.net
END:VEVENT
END:VCALENDAR