BEGIN:VCALENDAR
METHOD:PUBLISH
PRODID:-//LogicWorks GmbH//NONSGML Contentory//EN
VERSION:2.0
CALSCALE:GREGORIAN
X-MS-OLK-FORCEINSPECTOROPEN:TRUE
BEGIN:VEVENT
DTSTAMP:20260423T165744Z
SUMMARY:Von der Ausschreibung bis zur Antragstellung - die Webinarreihe zu Cluster
  6 in Horizont Europa
DESCRIPTION:Die Nationale Kontaktstelle Bioökonomie und Umwelt (NKS B&U) veranstaltet
  vom 17. November bis zum 07. Dezember 2021 (jeweils von 9:30 Uhr bis ca. 
 10:45 Uhr) eine Webinarreihe für Interessierte am EU-Forschungsrahmenprog
 ramm Horizont Europa mit Informationen zu allen Phasen der nächsten Aussc
 hreibung (Aufrufe 2022) in Cluster 6.
LOCATION:online
CREATED:20211021T091422
LAST-MODIFIED:20211021T091422
DTSTART;VALUE=DATE:20211117T093000
DTEND;VALUE=DATE:20211207T104500
UID:sn_313_date_0@logic-works.net
END:VEVENT
END:VCALENDAR