BEGIN:VCALENDAR
METHOD:PUBLISH
PRODID:-//LogicWorks GmbH//NONSGML Contentory//EN
VERSION:2.0
CALSCALE:GREGORIAN
X-MS-OLK-FORCEINSPECTOROPEN:TRUE
BEGIN:VEVENT
DTSTAMP:20260423T121303Z
SUMMARY:Webinar- und Workshop-Reihe „Fit für Ihren Antrag: Antragsvorbereitung 
 in Cluster 6 und den Missionen von Horizont Europa“
DESCRIPTION:Die Nationale Kontaktstelle Bioökonomie und Umwelt führt im Frühjahr zw
 ei Veranstaltungsreihen zur Antragstellung in den Missionen von Horizont E
 uropa durch. Beide Veranstaltungsreihen finden in der Zeit von April bis M
 itte Juni 2024 statt und richten sich vorrangig an Interessierte\, die ein
 en Antrag für die neuen Aufrufe des Arbeitsprogramms 2024 für die EU-Mis
 sionen vorbereiten wollen.
LOCATION:Online
CREATED:20240312T085940
LAST-MODIFIED:20240312T090426
DTSTART;VALUE=DATE:20240408T000000
DTEND;VALUE=DATE:20240617T235959
UID:sn_952_date_0@logic-works.net
END:VEVENT
END:VCALENDAR