BEGIN:VCALENDAR
METHOD:PUBLISH
PRODID:-//LogicWorks GmbH//NONSGML Contentory//EN
VERSION:2.0
CALSCALE:GREGORIAN
X-MS-OLK-FORCEINSPECTOROPEN:TRUE
BEGIN:VEVENT
DTSTAMP:20260420T105255Z
SUMMARY:Webinar Personnel Unit Cost – New cost methods in Horizon Europe
DESCRIPTION:Die EU-Kommission lädt am 19.06. zu einem 1\,5-stündigen Webinar zur Abr
 echnung von Personalkosten in Horizont Europa ein.
LOCATION:online
CREATED:20240605T185208
LAST-MODIFIED:20240606T072654
DTSTART;VALUE=DATE:20240619T143000
DTEND;VALUE=DATE:20240619T160000
UID:sn_1102_date_0@logic-works.net
END:VEVENT
END:VCALENDAR