BEGIN:VCALENDAR
METHOD:PUBLISH
PRODID:-//LogicWorks GmbH//NONSGML Contentory//EN
VERSION:2.0
CALSCALE:GREGORIAN
X-MS-OLK-FORCEINSPECTOROPEN:TRUE
BEGIN:VEVENT
DTSTAMP:20260423T121453Z
SUMMARY:Avoiding errors in declaring personnel costs in Horizon 2020 grants
DESCRIPTION:Die EU-Kommission veranstaltet am 30. September 2021 ein Webinar zur Angab
 e von Personalkosten im Rahmen von Horizont 2020 Projekten.
LOCATION:online
CREATED:20210921T143623
LAST-MODIFIED:20210921T143721
DTSTART;VALUE=DATE:20210930T100000
DTEND;VALUE=DATE:20210930T120000
UID:sn_295_date_0@logic-works.net
END:VEVENT
END:VCALENDAR