BEGIN:VCALENDAR
METHOD:PUBLISH
PRODID:-//LogicWorks GmbH//NONSGML Contentory//EN
VERSION:2.0
CALSCALE:GREGORIAN
X-MS-OLK-FORCEINSPECTOROPEN:TRUE
BEGIN:VEVENT
DTSTAMP:20260424T033504Z
SUMMARY:Introduction to Horizon Europe Webinar
DESCRIPTION:Informationsveranstaltung zu „Horizont Europa“ der KTN Global Alliance
  and Innovate UK in englischer Sprache.
LOCATION:Online
CREATED:20210302T124555
LAST-MODIFIED:20210302T160414
DTSTART;VALUE=DATE:20210311T110000
DTEND;VALUE=DATE:20210311T130000
UID:sn_181_date_0@logic-works.net
END:VEVENT
END:VCALENDAR