BEGIN:VCALENDAR
METHOD:PUBLISH
PRODID:-//LogicWorks GmbH//NONSGML Contentory//EN
VERSION:2.0
CALSCALE:GREGORIAN
X-MS-OLK-FORCEINSPECTOROPEN:TRUE
BEGIN:VEVENT
DTSTAMP:20260423T135145Z
SUMMARY:NKS-DIT-Veranstaltung:  Antragstellung über das Funding & Tenders Portal
DESCRIPTION:In dem Vortrag erläutert die NKS-DIT anhand eines Praxisbeispiels die Nav
 igation und die Antragstellung innerhalb des Funding & Tenders Portals. Au
 ßerdem ist Zeit zum freien Austausch eingeplant.
LOCATION:Online
CREATED:20240508T104532
LAST-MODIFIED:20240621T140255
DTSTART;VALUE=DATE:20240621T100000
DTEND;VALUE=DATE:20240621T113000
UID:sn_1066_date_0@logic-works.net
END:VEVENT
END:VCALENDAR