BEGIN:VCALENDAR
METHOD:PUBLISH
PRODID:-//LogicWorks GmbH//NONSGML Contentory//EN
VERSION:2.0
CALSCALE:GREGORIAN
X-MS-OLK-FORCEINSPECTOROPEN:TRUE
BEGIN:VEVENT
DTSTAMP:20260423T121535Z
SUMMARY:Online-Veranstaltung  „Certificates on the financial statements (CFS) i
 n Horizon Europe”
DESCRIPTION:Die EU-Kommission lädt am 26.06. um 10:00 Uhr zu einer 1\,5-stündigen On
 line-Veranstaltung ein\, in dem die Arbeitsprozesse rund um CFS erläutert
  werden.
LOCATION:online
CREATED:20240605T190538
LAST-MODIFIED:20240621T135127
DTSTART;VALUE=DATE:20240626T100000
DTEND;VALUE=DATE:20240626T113000
UID:sn_1104_date_0@logic-works.net
END:VEVENT
END:VCALENDAR