BEGIN:VCALENDAR
METHOD:PUBLISH
PRODID:-//LogicWorks GmbH//NONSGML Contentory//EN
VERSION:2.0
CALSCALE:GREGORIAN
X-MS-OLK-FORCEINSPECTOROPEN:TRUE
BEGIN:VEVENT
DTSTAMP:20260423T134859Z
SUMMARY:VernetzBar Basics - Ihr Einstieg in die Plattform
DESCRIPTION:Die NKS Gesellschaft organisiert gemeinsam mit den Nationalen Kontaktstell
 en der Cluster 1 und 3–6 eine Veranstaltungsreihe zur SSH-STEM VernetzBa
 r und zur Einbindung der SSH in die Ausschreibungen 2026.
LOCATION:online
CREATED:20251021T150016
LAST-MODIFIED:20251021T150016
DTSTART;VALUE=DATE:20251112T140000
DTEND;VALUE=DATE:20251112T153000
UID:sn_1867_date_0@logic-works.net
END:VEVENT
END:VCALENDAR