BEGIN:VCALENDAR
METHOD:PUBLISH
PRODID:-//LogicWorks GmbH//NONSGML Contentory//EN
VERSION:2.0
CALSCALE:GREGORIAN
X-MS-OLK-FORCEINSPECTOROPEN:TRUE
BEGIN:VEVENT
DTSTAMP:20260422T104748Z
SUMMARY:Veranstaltungsreihe der NKS RUF zum Start von Horizont Europa
DESCRIPTION:Die NKS RUF startet am 24. Februar 2021 mit einer Veranstaltungsreihe zu d
 en rechtlichen\, administrativen und finanziellen Fragestellungen zu Horiz
 ont Europa.
LOCATION:Online
CREATED:20210210T111839
LAST-MODIFIED:20210210T111839
DTSTART;VALUE=DATE:20210224T000000
DTEND;VALUE=DATE:20210310T235959
UID:sn_160_date_0@logic-works.net
END:VEVENT
END:VCALENDAR