BEGIN:VCALENDAR
METHOD:PUBLISH
PRODID:-//LogicWorks GmbH//NONSGML Contentory//EN
VERSION:2.0
CALSCALE:GREGORIAN
X-MS-OLK-FORCEINSPECTOROPEN:TRUE
BEGIN:VEVENT
DTSTAMP:20260423T122314Z
SUMMARY:Two factor authentication becoming mandatory in the Funding & Tenders Port
 al – all you need to know
DESCRIPTION:Am 10.05.23 informiert die EU-Kommission online von 10:00 bis 12:00 CEST z
 ur neuen 2-Faktor-Authentifizierung für das Funding & Tenders Portal.
LOCATION:online
CREATED:20230417T154742
LAST-MODIFIED:20230417T154742
DTSTART;VALUE=DATE:20230510T100000
DTEND;VALUE=DATE:20230510T120000
UID:sn_754_date_0@logic-works.net
END:VEVENT
END:VCALENDAR