BEGIN:VCALENDAR
METHOD:PUBLISH
PRODID:-//LogicWorks GmbH//NONSGML Contentory//EN
VERSION:2.0
CALSCALE:GREGORIAN
X-MS-OLK-FORCEINSPECTOROPEN:TRUE
BEGIN:VEVENT
DTSTAMP:20260422T012255Z
SUMMARY:Wie werde ich Partner in einem Konsortium für einen erfolgreichen Horizon
 t Europa Antrag? - Tipps für erfolgversprechende Projektskizzen und Koope
 rationsmodelle
DESCRIPTION:Die NKS DIT informiert in Kooperation mit der NKS RuF am 23.11.2021 über 
 verschiedene Möglichkeiten zur Partnersuche und gibt Tipps für erfolgver
 sprechende Projektskizzen und Kooperationsmodelle. Die Inhalte der Veranst
 altung können u. a. für das Brokerage Event von BRIDGE2HE zu Cluster 4 
 am 2. und 3. Dezember 2021 und entsprechende Einträge im Funding and Tend
 ers Opportunities Portal genutzt werden.
LOCATION:online
CREATED:20211115T102706
LAST-MODIFIED:20211116T145832
DTSTART;VALUE=DATE:20211123T090000
DTEND;VALUE=DATE:20211123T103000
UID:sn_332_date_0@logic-works.net
END:VEVENT
END:VCALENDAR