BEGIN:VCALENDAR
METHOD:PUBLISH
PRODID:-//LogicWorks GmbH//NONSGML Contentory//EN
VERSION:2.0
CALSCALE:GREGORIAN
X-MS-OLK-FORCEINSPECTOROPEN:TRUE
BEGIN:VEVENT
DTSTAMP:20260423T121454Z
SUMMARY:Themenworkshop "Zukunftsmarkt Post-Quanten-Kryptographie"
DESCRIPTION:In diesem Themenworkshop sind die Teilnehmenden eingeladen zusammen mit Ex
 pertinnen und Experten aus Forschung\, Wirtschaft und Behörden zu diskuti
 eren\, wie Deutschland und Europa sich im Zukunftsfeld der Post-Quanten-Kr
 yptografie strategisch positionieren können.
LOCATION:DLR Projektträger
CREATED:20250801T131654
LAST-MODIFIED:20250801T133052
DTSTART;VALUE=DATE:20250812T093000
DTEND;VALUE=DATE:20250812T163000
UID:sn_1721_date_0@logic-works.net
END:VEVENT
END:VCALENDAR