BEGIN:VCALENDAR
METHOD:PUBLISH
PRODID:-//LogicWorks GmbH//NONSGML Contentory//EN
VERSION:2.0
CALSCALE:GREGORIAN
X-MS-OLK-FORCEINSPECTOROPEN:TRUE
BEGIN:VEVENT
DTSTAMP:20260423T162923Z
SUMMARY:Textiles ecosystem stakeholder event
DESCRIPTION:Am 4. Juni 2024 veranstaltet die Generaldirektion Binnenmarkt\, Industrie\
 , Unternehmertum und KMU (GD GROW) der EU-Kommission eine Stakeholder-Vera
 nstaltung für das Ökosystem der Textilindustrie. Es handelt sich um eine
  hybride Veranstaltung\, die in Brüssel stattfinden wird und auch online 
 verfolgt werden kann. Alle Stakeholder sind herzlich eingeladen\, daran te
 ilzunehmen.
LOCATION:Hybrid\; Albert Borschette Conference Centre Rue Froissart 36\, Brussels\,
  1040 Etterbeek\, Belgium
CREATED:20240507T130740
LAST-MODIFIED:20240507T150140
DTSTART;VALUE=DATE:20240604T123000
DTEND;VALUE=DATE:20240604T173000
UID:sn_1062_date_0@logic-works.net
END:VEVENT
END:VCALENDAR