BEGIN:VCALENDAR
METHOD:PUBLISH
PRODID:-//LogicWorks GmbH//NONSGML Contentory//EN
VERSION:2.0
CALSCALE:GREGORIAN
X-MS-OLK-FORCEINSPECTOROPEN:TRUE
BEGIN:VEVENT
DTSTAMP:20260423T110901Z
SUMMARY:Synergies across the EU funding programmes managed by the European Health 
 and Digital Executive Agency (HaDEA)
DESCRIPTION:Die Europäische Exekutivagentur für Gesundheit und Digitales (HaDEA) lä
 dt Sie zur Teilnahme an einer Veranstaltung zum Thema „Fördermöglichke
 iten in europäischen Gesundheits- und Digitalprogrammen“ ein.
LOCATION:ISS\, Viale Regina Elena\, 299\, 00161 Rom\, Italien
CREATED:20230516T150536
LAST-MODIFIED:20230516T152926
DTSTART;VALUE=DATE:20230620T090000
DTEND;VALUE=DATE:20230620T130000
UID:sn_772_date_0@logic-works.net
END:VEVENT
END:VCALENDAR