BEGIN:VCALENDAR
METHOD:PUBLISH
PRODID:-//LogicWorks GmbH//NONSGML Contentory//EN
VERSION:2.0
CALSCALE:GREGORIAN
X-MS-OLK-FORCEINSPECTOROPEN:TRUE
BEGIN:VEVENT
DTSTAMP:20260423T135338Z
SUMMARY:Symposium der NKS Gesundheit
DESCRIPTION:Die Nationale Kontaktstelle (NKS) Gesundheit veranstaltet am 26. Februar 2
 025 ihr jährliches Symposium in Köln.
LOCATION:KOMED Mediapark
CREATED:20250204T112413
LAST-MODIFIED:20250204T153244
DTSTART;VALUE=DATE:20250226T090000
DTEND;VALUE=DATE:20250226T163000
UID:sn_1426_date_0@logic-works.net
END:VEVENT
END:VCALENDAR