BEGIN:VCALENDAR
METHOD:PUBLISH
PRODID:-//LogicWorks GmbH//NONSGML Contentory//EN
VERSION:2.0
CALSCALE:GREGORIAN
X-MS-OLK-FORCEINSPECTOROPEN:TRUE
BEGIN:VEVENT
DTSTAMP:20260423T120945Z
SUMMARY:SusChem Workshop – Safety and Sustainability-by-Design (SSbD)
DESCRIPTION:Der SusChem Workshop für “Safety and Sustainability-by-Design” (SSbD)
  Anwendungen bringt Stakeholder aus Industrie\, Akademia und Politik zusam
 men.
LOCATION:Technical Chamber of Greece/ Online
CREATED:20240606T133050
LAST-MODIFIED:20240606T140732
DTSTART;VALUE=DATE:20240613T090000
DTEND;VALUE=DATE:20240613T170000
UID:sn_1106_date_0@logic-works.net
END:VEVENT
END:VCALENDAR