BEGIN:VCALENDAR
METHOD:PUBLISH
PRODID:-//LogicWorks GmbH//NONSGML Contentory//EN
VERSION:2.0
CALSCALE:GREGORIAN
X-MS-OLK-FORCEINSPECTOROPEN:TRUE
BEGIN:VEVENT
DTSTAMP:20260421T030332Z
SUMMARY:SusChem Stakeholder Event 2024
DESCRIPTION:Das „SusChem Stakeholder Event 2024: Celebrating 20 Years of Sustainable
  Chemistry & Future Directions“ findet am 07.11.2024 in Brüssel statt.
LOCATION:Le Plaza Hotel Brüssel
CREATED:20240606T133557
LAST-MODIFIED:20240828T081053
DTSTART;VALUE=DATE:20241107T090000
DTEND;VALUE=DATE:20241107T150000
UID:sn_1108_date_0@logic-works.net
END:VEVENT
END:VCALENDAR