BEGIN:VCALENDAR
METHOD:PUBLISH
PRODID:-//LogicWorks GmbH//NONSGML Contentory//EN
VERSION:2.0
CALSCALE:GREGORIAN
X-MS-OLK-FORCEINSPECTOROPEN:TRUE
BEGIN:VEVENT
DTSTAMP:20260420T125828Z
SUMMARY:SusChem Brokerage Event 2021: "Horizon Europe: Team up to apply for fundin
 g"
DESCRIPTION:Brokerage Event der Technologieplattform Sustainable Chemistry zum Horizon
 t Europa Arbeitsprogramm 2021/2022
LOCATION:Online
CREATED:20210608T120826
LAST-MODIFIED:20210608T121332
DTSTART;VALUE=DATE:20210621T093000
DTEND;VALUE=DATE:20210625T180000
UID:sn_236_date_0@logic-works.net
END:VEVENT
END:VCALENDAR