BEGIN:VCALENDAR
METHOD:PUBLISH
PRODID:-//LogicWorks GmbH//NONSGML Contentory//EN
VERSION:2.0
CALSCALE:GREGORIAN
X-MS-OLK-FORCEINSPECTOROPEN:TRUE
BEGIN:VEVENT
DTSTAMP:20260423T162929Z
SUMMARY:1st Stakeholders workshop on Safe and Sustainable-by-Design criteria for c
 hemicals\, materials and products
DESCRIPTION:Der erste Stakeholder Workshop zu Sicherheits- und „Sustainable-by-Desig
 n“-Kriterien für Chemikalien\, Materialien und Produkte wird am 19.03.2
 021 von der Europäischen Kommission veranstaltet.
LOCATION:Online
CREATED:20210303T113732
LAST-MODIFIED:20210303T115456
DTSTART;VALUE=DATE:20210319T093000
DTEND;VALUE=DATE:20210319T130000
UID:sn_182_date_0@logic-works.net
END:VEVENT
END:VCALENDAR