BEGIN:VCALENDAR
METHOD:PUBLISH
PRODID:-//LogicWorks GmbH//NONSGML Contentory//EN
VERSION:2.0
CALSCALE:GREGORIAN
X-MS-OLK-FORCEINSPECTOROPEN:TRUE
BEGIN:VEVENT
DTSTAMP:20260423T163739Z
SUMMARY:SSH-STEM VernetzBar Launch Event
DESCRIPTION:Die SSH-STEM VernetzBar ist die neue digitale Plattform für die Vernetzun
 g von Forschenden aus den Sozial- und Geisteswissenschaften (SSH) und den 
 MINT-Disziplinen (STEM) für Ausschreibungen in Horizont Europa.
LOCATION:Online
CREATED:20250207T124525
LAST-MODIFIED:20250207T124525
DTSTART;VALUE=DATE:20250402T100000
DTEND;VALUE=DATE:20250402T130000
UID:sn_1434_date_0@logic-works.net
END:VEVENT
END:VCALENDAR