BEGIN:VCALENDAR
METHOD:PUBLISH
PRODID:-//LogicWorks GmbH//NONSGML Contentory//EN
VERSION:2.0
CALSCALE:GREGORIAN
X-MS-OLK-FORCEINSPECTOROPEN:TRUE
BEGIN:VEVENT
DTSTAMP:20260423T134619Z
SUMMARY:SSbD25 Conference
DESCRIPTION:Die Safe-and-Sustainable-by-Design Konferenz (SSbD25 Conference) findet vo
 m 10.-12. November 2025 in Zürich statt.
LOCATION:Empa-Akademie
CREATED:20251023T140854
LAST-MODIFIED:20251023T141046
DTSTART;VALUE=DATE:20251110T090000
DTEND;VALUE=DATE:20251112T140000
UID:sn_1886_date_0@logic-works.net
END:VEVENT
END:VCALENDAR