BEGIN:VCALENDAR
METHOD:PUBLISH
PRODID:-//LogicWorks GmbH//NONSGML Contentory//EN
VERSION:2.0
CALSCALE:GREGORIAN
X-MS-OLK-FORCEINSPECTOROPEN:TRUE
BEGIN:VEVENT
DTSTAMP:20260423T162834Z
SUMMARY:Horizon Europe Space Brokerage Event
DESCRIPTION:Brokerage Event des Netzwerks der Nationalen Kontaktstellen Weltraum\, COS
 MOS2020plus\, zum Horizont Europa Arbeitsprogramm 2021/2022
LOCATION:Online
CREATED:20210618T080805
LAST-MODIFIED:20210618T081032
DTSTART;VALUE=DATE:20210628T090000
DTEND;VALUE=DATE:20210628T190000
UID:sn_242_date_0@logic-works.net
END:VEVENT
END:VCALENDAR