BEGIN:VCALENDAR
METHOD:PUBLISH
PRODID:-//LogicWorks GmbH//NONSGML Contentory//EN
VERSION:2.0
CALSCALE:GREGORIAN
X-MS-OLK-FORCEINSPECTOROPEN:TRUE
BEGIN:VEVENT
DTSTAMP:20260423T134619Z
SUMMARY:Social Sciences and Humanities (SSH) in Horizon Europe: Bridging Research 
 and Industry for Impactful Innovation
DESCRIPTION:Die NKS-Netzwerkprojekte in Cluster 2 (Net4Society) und Cluster 4 (Ideal-i
 st\, NCP4Industry\, COSMOS4HE) organisieren ein Webinar zum Thema SSH-Inte
 gration in Horizont Europa Projekten mit dem Fokus auf den digitalen und i
 ndustriellen Technologien.
LOCATION:Onlline
CREATED:20250429T103834
LAST-MODIFIED:20250429T104644
DTSTART;VALUE=DATE:20250522T100000
DTEND;VALUE=DATE:20250522T123000
UID:sn_1555_date_0@logic-works.net
END:VEVENT
END:VCALENDAR