BEGIN:VCALENDAR
METHOD:PUBLISH
PRODID:-//LogicWorks GmbH//NONSGML Contentory//EN
VERSION:2.0
CALSCALE:GREGORIAN
X-MS-OLK-FORCEINSPECTOROPEN:TRUE
BEGIN:VEVENT
DTSTAMP:20260423T220303Z
SUMMARY:SNS R&I WP 2024 Briefing Session
DESCRIPTION:Eine SNS R&I WP Briefing Session wird gemeinsam vom SNS JU\, der Europäis
 chen Kommission und dem 6GIA am 11. Dezember 2023 um 13:00 Uhr MEZ organis
 iert. Antragstellende werden die Möglichkeit haben Fragen zu stellen.
LOCATION:online
CREATED:20231129T140947
LAST-MODIFIED:20231129T141836
DTSTART;VALUE=DATE:20231211T000000
DTEND;VALUE=DATE:20231211T235959
UID:sn_893_date_0@logic-works.net
END:VEVENT
END:VCALENDAR