BEGIN:VCALENDAR
METHOD:PUBLISH
PRODID:-//LogicWorks GmbH//NONSGML Contentory//EN
VERSION:2.0
CALSCALE:GREGORIAN
X-MS-OLK-FORCEINSPECTOROPEN:TRUE
BEGIN:VEVENT
DTSTAMP:20260423T164130Z
SUMMARY:SNS Call for Proposals 2024 – Information Day
DESCRIPTION:Im Rahmen eines Informationstages sollen die Themen des SNS JU Call for Pr
 oposals 2024 vorgestellt werden
LOCATION:online
CREATED:20231212T133416
LAST-MODIFIED:20231212T133416
DTSTART;VALUE=DATE:20240122T100000
DTEND;VALUE=DATE:20240122T130000
UID:sn_902_date_0@logic-works.net
END:VEVENT
END:VCALENDAR