BEGIN:VCALENDAR
METHOD:PUBLISH
PRODID:-//LogicWorks GmbH//NONSGML Contentory//EN
VERSION:2.0
CALSCALE:GREGORIAN
X-MS-OLK-FORCEINSPECTOROPEN:TRUE
BEGIN:VEVENT
DTSTAMP:20260422T194737Z
SUMMARY:SMI2G Brokerage-Event 2024
DESCRIPTION:Am 22. und 23. Mai 2024 findet das Security Mission Information & Innovati
 on Group Event 2024 in Paris statt\, welches Möglichkeiten zur Vernetzung
  und Partnersuche im Rahmen des „Horizont Europa“ Programms „Zivile 
 Sicherheit für die Gesellschaft 2023-2024“ bietet.
LOCATION:Campus Cyber
CREATED:20240403T084052
LAST-MODIFIED:20240403T135035
DTSTART;VALUE=DATE:20240522T090000
DTEND;VALUE=DATE:20240523T170000
UID:sn_973_date_0@logic-works.net
END:VEVENT
END:VCALENDAR