BEGIN:VCALENDAR
METHOD:PUBLISH
PRODID:-//LogicWorks GmbH//NONSGML Contentory//EN
VERSION:2.0
CALSCALE:GREGORIAN
X-MS-OLK-FORCEINSPECTOROPEN:TRUE
BEGIN:VEVENT
DTSTAMP:20260423T122153Z
SUMMARY:Online-Seminarreihe des Fraunhofer Leistungszentrums „Smart Production a
 nd Materials"
DESCRIPTION:Online Seminareihe »cUPdates« des Fraunhofer Leistungszentrums „Smart 
 Production and Materials“ bietet kurze und informative Impulse zu aktuel
 len Themen bei einem gemeinsamen digitalen Kaffeetrinken.
LOCATION:online
CREATED:20221018T094814
LAST-MODIFIED:20221018T094821
DTSTART;VALUE=DATE:20221110T000000
DTEND;VALUE=DATE:20221201T235959
UID:sn_620_date_0@logic-works.net
END:VEVENT
END:VCALENDAR