BEGIN:VCALENDAR
METHOD:PUBLISH
PRODID:-//LogicWorks GmbH//NONSGML Contentory//EN
VERSION:2.0
CALSCALE:GREGORIAN
X-MS-OLK-FORCEINSPECTOROPEN:TRUE
BEGIN:VEVENT
DTSTAMP:20260423T135425Z
SUMMARY:Konferenz „The Future of Digital Investments in the EU”
DESCRIPTION:Die Konferenz „The Future of Digital Investments in the EU“ findet im 
 Rahmen der dänischen EU-Ratspräsidentschaft 2025 am 2. und 3. Juli in Aa
 lborg statt.
LOCATION:Aalborg Congress Centre
CREATED:20250226T133637
LAST-MODIFIED:20250515T091517
DTSTART;VALUE=DATE:20250702T000000
DTEND;VALUE=DATE:20250703T235959
UID:sn_1472_date_0@logic-works.net
END:VEVENT
END:VCALENDAR