BEGIN:VCALENDAR
METHOD:PUBLISH
PRODID:-//LogicWorks GmbH//NONSGML Contentory//EN
VERSION:2.0
CALSCALE:GREGORIAN
X-MS-OLK-FORCEINSPECTOROPEN:TRUE
BEGIN:VEVENT
DTSTAMP:20260419T224949Z
SUMMARY:Rahmenprogramm-Start: Einsteigerseminar zu Horizont Europa
DESCRIPTION:Einsteigerseminar zu den grundlegenden Strukturen\, Begriffen und Aufbau d
 es neuen Rahmenprogramms Horizont Europa.\r\n- Dieses Seminar ist ausgebuc
 ht -
LOCATION:Online
CREATED:20210210T113716
LAST-MODIFIED:20210302T113146
DTSTART;VALUE=DATE:20210325T000000
DTEND;VALUE=DATE:20210325T235959
UID:sn_161_date_0@logic-works.net
END:VEVENT
END:VCALENDAR