BEGIN:VCALENDAR
METHOD:PUBLISH
PRODID:-//LogicWorks GmbH//NONSGML Contentory//EN
VERSION:2.0
CALSCALE:GREGORIAN
X-MS-OLK-FORCEINSPECTOROPEN:TRUE
BEGIN:VEVENT
DTSTAMP:20260423T134239Z
SUMMARY:Rhein-Main goes EU – Cluster 4: Digitales\, Industrie und Weltraum
DESCRIPTION:Die NKS DIT informiert  in einer Veranstaltung des Teams der EU Forschung
 sförderung „EU for You“ der TU Darmstadt zu den Themen des Clusters 4
  (Digital\, Industrie und Raumfahrt) in Horizont Europa.
LOCATION:Online
CREATED:20210315T142526
LAST-MODIFIED:20210315T142603
DTSTART;VALUE=DATE:20210325T100000
DTEND;VALUE=DATE:20210325T120000
UID:sn_194_date_0@logic-works.net
END:VEVENT
END:VCALENDAR