BEGIN:VCALENDAR
METHOD:PUBLISH
PRODID:-//LogicWorks GmbH//NONSGML Contentory//EN
VERSION:2.0
CALSCALE:GREGORIAN
X-MS-OLK-FORCEINSPECTOROPEN:TRUE
BEGIN:VEVENT
DTSTAMP:20260423T091504Z
SUMMARY:Research & Innovation for the Clean Industrial Deal
DESCRIPTION:Am 16.12.2025 richtet die FFG in Zusammenarbeit mit der Vereinigung der Ö
 sterreichischen Industrie eine Online-Informationsveranstaltung zum Clean 
 Industrial Deal Call aus.
LOCATION:Online
CREATED:20251031T145917
LAST-MODIFIED:20251103T075348
DTSTART;VALUE=DATE:20251216T140000
DTEND;VALUE=DATE:20251216T150000
UID:sn_1918_date_0@logic-works.net
END:VEVENT
END:VCALENDAR