BEGIN:VCALENDAR
METHOD:PUBLISH
PRODID:-//LogicWorks GmbH//NONSGML Contentory//EN
VERSION:2.0
CALSCALE:GREGORIAN
X-MS-OLK-FORCEINSPECTOROPEN:TRUE
BEGIN:VEVENT
DTSTAMP:20260423T135405Z
SUMMARY:Research in Action: how to define\, measure and communicate the societal i
 mpact of your work?
DESCRIPTION:Die EU-Kommission organisiert am 24. September 2024 eine online Veranstalt
 ung und informiert über erfolgreiche Praktiken zur Erfassung und Förderu
 ng des gesellschaftlichen Wertes von Forschungsergebnissen.
LOCATION:Online
CREATED:20240823T154237
LAST-MODIFIED:20240823T161033
DTSTART;VALUE=DATE:20240924T130000
DTEND;VALUE=DATE:20240924T134500
UID:sn_1209_date_0@logic-works.net
END:VEVENT
END:VCALENDAR