BEGIN:VCALENDAR
METHOD:PUBLISH
PRODID:-//LogicWorks GmbH//NONSGML Contentory//EN
VERSION:2.0
CALSCALE:GREGORIAN
X-MS-OLK-FORCEINSPECTOROPEN:TRUE
BEGIN:VEVENT
DTSTAMP:20260420T111140Z
SUMMARY:Research and Innovation Week
DESCRIPTION:Die von der EU-Kommission organisierte 'Research and Innovation Week' bün
 delt zum ersten Mal zwei Veranstaltungsformate\, die "R&I Days" und den "E
 uropean Innovation Council (EIC) Summit" innerhalb einer Woche. Die Teilna
 hme ist sowohl vor Ort in Brüssel als auch online möglich. 
LOCATION:Tour & Taxis/ Online
CREATED:20231214T164025
LAST-MODIFIED:20231218T074655
DTSTART;VALUE=DATE:20240318T000000
DTEND;VALUE=DATE:20240321T235959
UID:sn_908_date_0@logic-works.net
END:VEVENT
END:VCALENDAR