BEGIN:VCALENDAR
METHOD:PUBLISH
PRODID:-//LogicWorks GmbH//NONSGML Contentory//EN
VERSION:2.0
CALSCALE:GREGORIAN
X-MS-OLK-FORCEINSPECTOROPEN:TRUE
BEGIN:VEVENT
DTSTAMP:20260422T224657Z
SUMMARY:Raw Materials Week 2025
DESCRIPTION:Die Raw Materials Week ist eine jährlich stattfindende\, von der EU-Kommi
 ssion organisierte Veranstaltung mit Schwerpunkt auf der nachhaltigen und 
 sicheren Versorgung Europas mit Rohstoffen.
LOCATION:Le Plaza Hotel Brussels
CREATED:20251009T145338
LAST-MODIFIED:20251009T160742
DTSTART;VALUE=DATE:20251117T100000
DTEND;VALUE=DATE:20251121T173000
UID:sn_1814_date_0@logic-works.net
END:VEVENT
END:VCALENDAR