BEGIN:VCALENDAR
METHOD:PUBLISH
PRODID:-//LogicWorks GmbH//NONSGML Contentory//EN
VERSION:2.0
CALSCALE:GREGORIAN
X-MS-OLK-FORCEINSPECTOROPEN:TRUE
BEGIN:VEVENT
DTSTAMP:20260422T211931Z
SUMMARY:„Kaffeepause“ der NKS DIT – Thema: RAISE
DESCRIPTION:Bei unserem offenen Austauschformat „Kaffeepause“ geht es diesmal um d
 ie neue Initiative RAISE\, „Resource for AI Science in Europe“.\r\nDis
 kutieren Sie am 31.10. ab 11:30 Uhr mit!
LOCATION:online
CREATED:20251007T091138
LAST-MODIFIED:20251007T091441
DTSTART;VALUE=DATE:20251031T113000
DTEND;VALUE=DATE:20251031T121500
UID:sn_1804_date_0@logic-works.net
END:VEVENT
END:VCALENDAR