BEGIN:VCALENDAR
METHOD:PUBLISH
PRODID:-//LogicWorks GmbH//NONSGML Contentory//EN
VERSION:2.0
CALSCALE:GREGORIAN
X-MS-OLK-FORCEINSPECTOROPEN:TRUE
BEGIN:VEVENT
DTSTAMP:20260420T111047Z
SUMMARY:Quantenmetrologie: Gegenwart und Zukunft
DESCRIPTION:Das portugiesische Qualitätsinstitut (IPQ)\, das portugiesische Quantenin
 stitut (PQI) und das EURAMET European Metrology Network for Quantum Techn
 ologies veranstalten gemeinsam am 21. November 2022 einen hybriden Worksh
 op zum Thema „Quantenmetrologie: Gegenwart und Zukunft ”.
LOCATION:IPQ Portugal (Academia das Ciências)  & online
CREATED:20221103T152646
LAST-MODIFIED:20221103T153839
DTSTART;VALUE=DATE:20221121T100000
DTEND;VALUE=DATE:20221121T163000
UID:sn_626_date_0@logic-works.net
END:VEVENT
END:VCALENDAR